BEGIN:VCALENDAR
VERSION:2.0
PRODID:-//wp-events-plugin.com//7.2.3.1//EN
TZID:Europe/Berlin
X-WR-TIMEZONE:Europe/Berlin
BEGIN:VEVENT
UID:97@feuerwehr-klinga.de
DTSTART;TZID=Europe/Berlin:20220205T193000
DTEND;TZID=Europe/Berlin:20220206T020000
DTSTAMP:20211123T101022Z
URL:https://www.feuerwehr-klinga.de/events/vorbehaltlich-corona-bestimmung
 en-klingaer-feuerwehrfasching/
SUMMARY:ABSAGE:  Klingaer Feuerwehrfasching
DESCRIPTION:+++ Leider müssen wir unsere Veranstaltung Corona-bedingt&nbsp
 \; absagen! +++\nBeste Faschingsstimmung unter dem Motto "Klinga im närri
 schen Märchenland" mit viel Spaß\, Musik und Tanz erwartet alle Närrinn
 en und Narren. Feuerwehr und Förderverein überraschen mit einer zünftig
 en Show\, auch Klingas erste Putzfrau\, die “wilde Hilde”\, wird natü
 rlich nicht fehlen. Selbstverständlich ist für ausreichend Speisen und G
 etränke gesorgt.\nEintritt:\n11 €\n\nKartenverkauf:\nab Januar 2022 bei
  Susann-Luebeck-Busch\n&nbsp\;\n&nbsp\;
CATEGORIES:öffentlich
LOCATION:Dorfgemeinschaftszentrum Klinga\, Staudnitzstraße 16 a\, Parthens
 tein OT Klinga\, Sachsen\, 04668\, Deutschland
GEO:51.27746544040313;12.644366206359905
X-APPLE-STRUCTURED-LOCATION;VALUE=URI;X-ADDRESS=Staudnitzstraße 16 a\, Par
 thenstein OT Klinga\, Sachsen\, 04668\, Deutschland;X-APPLE-RADIUS=100;X-T
 ITLE=Dorfgemeinschaftszentrum Klinga:geo:51.27746544040313,12.644366206359
 905
END:VEVENT
BEGIN:VTIMEZONE
TZID:Europe/Berlin
X-LIC-LOCATION:Europe/Berlin
BEGIN:STANDARD
DTSTART:20211031T020000
TZOFFSETFROM:+0200
TZOFFSETTO:+0100
TZNAME:CET
END:STANDARD
END:VTIMEZONE
END:VCALENDAR