BEGIN:VCALENDAR
VERSION:2.0
PRODID:-//wp-events-plugin.com//7.2.3.1//EN
TZID:Europe/Berlin
X-WR-TIMEZONE:Europe/Berlin
BEGIN:VEVENT
UID:133@feuerwehr-klinga.de
DTSTART;TZID=Europe/Berlin:20260523T150000
DTEND;TZID=Europe/Berlin:20260523T220000
DTSTAMP:20241123T151339Z
URL:https://www.feuerwehr-klinga.de/events/tag-der-offenen-tuer-der-freiwi
 lligen-feuerwehr-klinga-4/
SUMMARY:Tag der offenen Tür der Freiwilligen Feuerwehr Klinga
DESCRIPTION:Am Nachmittag:\n\n\n 	Festappell\n 	Technikschau\n 	Vorführung
 en der Feuerwehr und Jugendfeuerwehr\n 	Löschen mit der Kübelspritze\n 	
 Kinderschminken\n 	Hüpfburg\n 	Kaffee und Kuchen von den Feuerwehr- und V
 ereinsfrauen\n\nAm Abend:\n\n\n 	Musik\n 	Heißes vom Grill\n 	Kühles vom
  Zapfhahn\n 	gemütliches Beisammensein\n
ATTACH;FMTTYPE=image/jpeg:https://www.feuerwehr-klinga.de/wp-content/uploa
 ds/2018/05/Tag-der-offenen-Tür-180526.jpg
CATEGORIES:öffentlich
LOCATION:Feuerwehr-Gerätehaus Klinga\, Neubauernstraße 4\, Parthenstein O
 T Klinga\, Sachsen\, 04668\, Deutschland
GEO:51.27201510000002;12.63780915714733
X-APPLE-STRUCTURED-LOCATION;VALUE=URI;X-ADDRESS=Neubauernstraße 4\, Parthe
 nstein OT Klinga\, Sachsen\, 04668\, Deutschland;X-APPLE-RADIUS=100;X-TITL
 E=Feuerwehr-Gerätehaus Klinga:geo:51.27201510000002,12.63780915714733
END:VEVENT
BEGIN:VTIMEZONE
TZID:Europe/Berlin
X-LIC-LOCATION:Europe/Berlin
BEGIN:DAYLIGHT
DTSTART:20260329T030000
TZOFFSETFROM:+0100
TZOFFSETTO:+0200
TZNAME:CEST
END:DAYLIGHT
END:VTIMEZONE
END:VCALENDAR