BEGIN:VCALENDAR
VERSION:2.0
PRODID:-//wp-events-plugin.com//7.2.3.1//EN
TZID:Europe/Berlin
X-WR-TIMEZONE:Europe/Berlin
BEGIN:VEVENT
UID:140@feuerwehr-klinga.de
DTSTART;TZID=Europe/Berlin:20270319T190000
DTEND;TZID=Europe/Berlin:20270319T203000
DTSTAMP:20251117T164238Z
URL:https://www.feuerwehr-klinga.de/events/ordentliche-mitgliederversammlu
 ng-12/
SUMMARY:Ordentliche Mitgliederversammlung
DESCRIPTION:Tagesordnung:\n\n\n 	Feststellung der Beschlussfähigkeit\, Bes
 tätigung der Tagesordnung\n 	Rechenschaftsbericht des Vorstands\n 	Finanz
 bericht des Vorstands\n 	Entlastung des alten Vorstands\n 	Aufstellung der
  Kandidaten für den neuen Vorstand\n 	Wahl des Vorstands\n 	Konstitution 
 des Vorstandes\n 	Anfragen der Mitglieder\n
ATTACH;FMTTYPE=image/jpeg:https://www.feuerwehr-klinga.de/wp-content/uploa
 ds/2016/05/Emblem-Verein_Web_800.jpg
CATEGORIES:Intern
LOCATION:Dorfgemeinschaftszentrum Klinga\, Staudnitzstraße 16 a\, Parthens
 tein OT Klinga\, Sachsen\, 04668\, Deutschland
GEO:51.27746544040313;12.644366206359905
X-APPLE-STRUCTURED-LOCATION;VALUE=URI;X-ADDRESS=Staudnitzstraße 16 a\, Par
 thenstein OT Klinga\, Sachsen\, 04668\, Deutschland;X-APPLE-RADIUS=100;X-T
 ITLE=Dorfgemeinschaftszentrum Klinga:geo:51.27746544040313,12.644366206359
 905
END:VEVENT
BEGIN:VTIMEZONE
TZID:Europe/Berlin
X-LIC-LOCATION:Europe/Berlin
BEGIN:STANDARD
DTSTART:20261025T020000
TZOFFSETFROM:+0200
TZOFFSETTO:+0100
TZNAME:CET
END:STANDARD
END:VTIMEZONE
END:VCALENDAR