BEGIN:VCALENDAR
VERSION:2.0
PRODID:-//wp-events-plugin.com//7.2.3.1//EN
TZID:Europe/Berlin
X-WR-TIMEZONE:Europe/Berlin
BEGIN:VEVENT
UID:129@feuerwehr-klinga.de
DTSTART;TZID=Europe/Berlin:20260103T180000
DTEND;TZID=Europe/Berlin:20260103T220000
DTSTAMP:20251117T164000Z
URL:https://www.feuerwehr-klinga.de/events/klingaer-gluehwein-empfang-4/
SUMMARY:Klingaer Glühwein-Empfang
DESCRIPTION:Gemütlicher Treff zum Jahresauftakt mit\n\n\n 	heißem Glühwe
 in\, Kinderpunsch und anderen Getränken ganz nach Geschmack und\n 	kleine
 m Imbiss der Jugendfeuerwehr.\n\nJe nach Wetterlage sorgt auch eine Feuers
 chale für wohlige Wärme vorm Gerätehaus.
ATTACH;FMTTYPE=image/jpeg:https://www.feuerwehr-klinga.de/wp-content/uploa
 ds/2020/01/Klingaer-Glühweinempfang_800.jpg
CATEGORIES:öffentlich
LOCATION:Feuerwehr-Gerätehaus Klinga\, Neubauernstraße 4\, Parthenstein O
 T Klinga\, Sachsen\, 04668\, Deutschland
GEO:51.27201510000002;12.63780915714733
X-APPLE-STRUCTURED-LOCATION;VALUE=URI;X-ADDRESS=Neubauernstraße 4\, Parthe
 nstein OT Klinga\, Sachsen\, 04668\, Deutschland;X-APPLE-RADIUS=100;X-TITL
 E=Feuerwehr-Gerätehaus Klinga:geo:51.27201510000002,12.63780915714733
END:VEVENT
BEGIN:VTIMEZONE
TZID:Europe/Berlin
X-LIC-LOCATION:Europe/Berlin
BEGIN:STANDARD
DTSTART:20251026T020000
TZOFFSETFROM:+0200
TZOFFSETTO:+0100
TZNAME:CET
END:STANDARD
END:VTIMEZONE
END:VCALENDAR