BEGIN:VCALENDAR
VERSION:2.0
PRODID:-//wp-events-plugin.com//7.2.3.1//EN
TZID:Europe/Berlin
X-WR-TIMEZONE:Europe/Berlin
BEGIN:VEVENT
UID:138@feuerwehr-klinga.de
DTSTART;TZID=Europe/Berlin:20270130T193000
DTEND;TZID=Europe/Berlin:20270131T020000
DTSTAMP:20251117T164125Z
URL:https://www.feuerwehr-klinga.de/events/klingaer-feuerwehrfasching-7/
SUMMARY:Klingaer Feuerwehrfasching
DESCRIPTION:Motto: (noch offen)\nBeste Faschingsstimmung unter neuem Motto&
 nbsp\; mit viel Spaß\, Musik und Tanz erwartet alle Närrinnen und Narren
 . Feuerwehr und Förderverein überraschen mit einer zünftigen Show\, auc
 h Klingas erste Putzfrau\, die “wilde Hilde”\, wird natürlich nicht f
 ehlen. Selbstverständlich ist für ausreichend Speisen und Getränke geso
 rgt.\nEintritt:\nvorauss. 15 €\n\nKartenverkauf:\nab Januar 2027 bei Sus
 ann Luebeck-Busch\n&nbsp\;\n&nbsp\;
CATEGORIES:öffentlich
LOCATION:Dorfgemeinschaftszentrum Klinga\, Staudnitzstraße 16 a\, Parthens
 tein OT Klinga\, Sachsen\, 04668\, Deutschland
GEO:51.27746544040313;12.644366206359905
X-APPLE-STRUCTURED-LOCATION;VALUE=URI;X-ADDRESS=Staudnitzstraße 16 a\, Par
 thenstein OT Klinga\, Sachsen\, 04668\, Deutschland;X-APPLE-RADIUS=100;X-T
 ITLE=Dorfgemeinschaftszentrum Klinga:geo:51.27746544040313,12.644366206359
 905
END:VEVENT
BEGIN:VTIMEZONE
TZID:Europe/Berlin
X-LIC-LOCATION:Europe/Berlin
BEGIN:STANDARD
DTSTART:20261025T020000
TZOFFSETFROM:+0200
TZOFFSETTO:+0100
TZNAME:CET
END:STANDARD
END:VTIMEZONE
END:VCALENDAR