BEGIN:VCALENDAR
VERSION:2.0
PRODID:-//wp-events-plugin.com//7.2.3.1//EN
TZID:Europe/Berlin
X-WR-TIMEZONE:Europe/Berlin
BEGIN:VEVENT
UID:109@feuerwehr-klinga.de
DTSTART;TZID=Europe/Berlin:20230826T143000
DTEND;TZID=Europe/Berlin:20230827T020000
DTSTAMP:20230625T155046Z
URL:https://www.feuerwehr-klinga.de/events/kinder-und-sommerfest-mit-kling
 aer-fischerstechen/
SUMMARY:Kinder- und Sommerfest mit Klingaer Fischerstechen
DESCRIPTION:Ein abwechslungsreiches&nbsp\;Programm für Groß und Klein:\n\
 n\n 	Klingaer Fischerstechen auf dem Feuerlöschteich mit Gesamtwertung\, 
 Ladies Cup und Junior Cup (U18)\, Start: 15 Uhr\n 	Kinderschminken und Bas
 teln\n 	XXL-Fußball-Dart\n 	Spielangebote und Hüpfburg\n 	Knüppelkuchen
  zum Selberbacken\n 	Lampion- und Fackelumzug\, Start: ca. 20.30 Uhr\n 	an
 schließend Lagerfeuer\n 	Kaffee\, Kuchen und Eis\n 	Leckeres vom Grill\n 
 	“Löschwasser” vom Zapfhahn\n 	viel Musik\, Tanz und beste Stimmung\n
ATTACH;FMTTYPE=image/jpeg:https://www.feuerwehr-klinga.de/wp-content/uploa
 ds/2016/05/Klingaer-Fischerstechen_Web_800.jpg
CATEGORIES:öffentlich
LOCATION:Senfberg Klinga\, Gartenstraße\, Parthenstein OT Klinga\, Sachsen
 \, 04668\, Deutschland
GEO:51.2725312545288;12.643694409570344
X-APPLE-STRUCTURED-LOCATION;VALUE=URI;X-ADDRESS=Gartenstraße\, Parthenstei
 n OT Klinga\, Sachsen\, 04668\, Deutschland;X-APPLE-RADIUS=100;X-TITLE=Sen
 fberg Klinga:geo:51.2725312545288,12.643694409570344
END:VEVENT
BEGIN:VTIMEZONE
TZID:Europe/Berlin
X-LIC-LOCATION:Europe/Berlin
BEGIN:DAYLIGHT
DTSTART:20230326T030000
TZOFFSETFROM:+0100
TZOFFSETTO:+0200
TZNAME:CEST
END:DAYLIGHT
END:VTIMEZONE
END:VCALENDAR