BEGIN:VCALENDAR
VERSION:2.0
PRODID:-//wp-events-plugin.com//7.2.3.1//EN
TZID:Europe/Berlin
X-WR-TIMEZONE:Europe/Berlin
BEGIN:VEVENT
UID:49@feuerwehr-klinga.de
DTSTART;TZID=Europe/Berlin:20170923T070000
DTEND;TZID=Europe/Berlin:20170924T190000
DTSTAMP:20170915T231031Z
URL:https://www.feuerwehr-klinga.de/events/feuerwehr-und-vereinsausfahrt-2
 /
SUMMARY:Feuerwehr- und Vereinsausfahrt
DESCRIPTION:Die Feuerwehr- und Vereinsausfahrt 2017 führt uns nach Görlit
 z\,&nbsp\;Bautzen und Radeberg. Der Reiseplan und die Anmeldeunterlagen we
 rden intern in der Feuerwehr und ihrem Förderverein verteilt.
CATEGORIES:Intern
END:VEVENT
BEGIN:VTIMEZONE
TZID:Europe/Berlin
X-LIC-LOCATION:Europe/Berlin
BEGIN:DAYLIGHT
DTSTART:20170326T030000
TZOFFSETFROM:+0100
TZOFFSETTO:+0200
TZNAME:CEST
END:DAYLIGHT
END:VTIMEZONE
END:VCALENDAR