BEGIN:VCALENDAR
VERSION:2.0
PRODID:-//wp-events-plugin.com//7.2.3.1//EN
TZID:Europe/Berlin
X-WR-TIMEZONE:Europe/Berlin
BEGIN:VEVENT
UID:144@feuerwehr-klinga.de
DTSTART;TZID=Europe/Berlin:20270827T180000
DTEND;TZID=Europe/Berlin:20270829T160000
DTSTAMP:20251117T164808Z
URL:https://www.feuerwehr-klinga.de/events/90-jahre-freiwillige-feuerwehr-
 klinga-30-jahre-foerderverein/
SUMMARY:90 Jahre Freiwillige Feuerwehr Klinga + 30 Jahre Förderverein
DESCRIPTION:Die Veranstaltungsdetails werden noch bekanntgegeben!
CATEGORIES:öffentlich
LOCATION:Sportplatz Klinga\, An der Autobahn A14\, Parthenstein OT Klinga\,
  Sachsen\, 04668\, Deutschland
GEO:51.28423833294034;12.641925557519471
X-APPLE-STRUCTURED-LOCATION;VALUE=URI;X-ADDRESS=An der Autobahn A14\, Parth
 enstein OT Klinga\, Sachsen\, 04668\, Deutschland;X-APPLE-RADIUS=100;X-TIT
 LE=Sportplatz Klinga:geo:51.28423833294034,12.641925557519471
END:VEVENT
BEGIN:VTIMEZONE
TZID:Europe/Berlin
X-LIC-LOCATION:Europe/Berlin
BEGIN:DAYLIGHT
DTSTART:20270328T030000
TZOFFSETFROM:+0100
TZOFFSETTO:+0200
TZNAME:CEST
END:DAYLIGHT
END:VTIMEZONE
END:VCALENDAR