BEGIN:VCALENDAR
VERSION:2.0
PRODID:-//wp-events-plugin.com//7.2.3.1//EN
TZID:Europe/Berlin
X-WR-TIMEZONE:Europe/Berlin
BEGIN:VEVENT
UID:43@feuerwehr-klinga.de
DTSTART;TZID=Europe/Berlin:20161230T100000
DTEND;TZID=Europe/Berlin:20161230T150000
DTSTAMP:20161012T134516Z
URL:https://www.feuerwehr-klinga.de/events/26-skatturnier-um-den-pokal-der
 -freiwilligen-feuerwehr-klinga/
SUMMARY:25. Skatturnier um den Pokal der Freiwilligen Feuerwehr Klinga
DESCRIPTION:Gespielt werden zwei Serien zu jeweils 48 Spielen. Das Startgel
 d beträgt zehn Euro. Die Erstplatzierten erhalten gestaffelte Preisgelder
 . Der Sieger erhält den Skatpokal der Freiwilligen Feuerwehr Klinga\, der
  Letztplatzierte die "Rote Laterne". Für Verpflegung ist vor Ort gesorgt.
 \nAnmeldung: Bei Wilfried Hilsberg\, Dorfstraße 23 in Klinga\, Telefon 03
 4293 33275.\nParken: Im Bereich des Feuerwehrgerätehauses und der Chicor
 ée Sachsen GmbH ist das Parken nicht möglich. Bitte nutzen Sie die nahen
  Parkplätze im Ort\, z.B. neben dem Gasthof.
CATEGORIES:öffentlich
LOCATION:Feuerwehr-Gerätehaus Klinga\, Neubauernstraße 4\, Parthenstein O
 T Klinga\, Sachsen\, 04668\, Deutschland
GEO:51.27201510000002;12.63780915714733
X-APPLE-STRUCTURED-LOCATION;VALUE=URI;X-ADDRESS=Neubauernstraße 4\, Parthe
 nstein OT Klinga\, Sachsen\, 04668\, Deutschland;X-APPLE-RADIUS=100;X-TITL
 E=Feuerwehr-Gerätehaus Klinga:geo:51.27201510000002,12.63780915714733
END:VEVENT
BEGIN:VTIMEZONE
TZID:Europe/Berlin
X-LIC-LOCATION:Europe/Berlin
BEGIN:STANDARD
DTSTART:20161030T020000
TZOFFSETFROM:+0200
TZOFFSETTO:+0100
TZNAME:CET
END:STANDARD
END:VTIMEZONE
END:VCALENDAR